BEGIN:VCALENDAR
VERSION:2.0
PRODID:-//Best Sword Fighting Techniques - ECPv6.15.20//NONSGML v1.0//EN
CALSCALE:GREGORIAN
METHOD:PUBLISH
X-ORIGINAL-URL:https://swordxp.com
X-WR-CALDESC:Events for Best Sword Fighting Techniques
REFRESH-INTERVAL;VALUE=DURATION:PT1H
X-Robots-Tag:noindex
X-PUBLISHED-TTL:PT1H
BEGIN:VTIMEZONE
TZID:America/Los_Angeles
BEGIN:DAYLIGHT
TZOFFSETFROM:-0800
TZOFFSETTO:-0700
TZNAME:PDT
DTSTART:20250309T100000
END:DAYLIGHT
BEGIN:STANDARD
TZOFFSETFROM:-0700
TZOFFSETTO:-0800
TZNAME:PST
DTSTART:20251102T090000
END:STANDARD
BEGIN:DAYLIGHT
TZOFFSETFROM:-0800
TZOFFSETTO:-0700
TZNAME:PDT
DTSTART:20260308T100000
END:DAYLIGHT
BEGIN:STANDARD
TZOFFSETFROM:-0700
TZOFFSETTO:-0800
TZNAME:PST
DTSTART:20261101T090000
END:STANDARD
BEGIN:DAYLIGHT
TZOFFSETFROM:-0800
TZOFFSETTO:-0700
TZNAME:PDT
DTSTART:20270314T100000
END:DAYLIGHT
BEGIN:STANDARD
TZOFFSETFROM:-0700
TZOFFSETTO:-0800
TZNAME:PST
DTSTART:20271107T090000
END:STANDARD
BEGIN:DAYLIGHT
TZOFFSETFROM:-0800
TZOFFSETTO:-0700
TZNAME:PDT
DTSTART:20280312T100000
END:DAYLIGHT
BEGIN:STANDARD
TZOFFSETFROM:-0700
TZOFFSETTO:-0800
TZNAME:PST
DTSTART:20281105T090000
END:STANDARD
END:VTIMEZONE
BEGIN:VEVENT
DTSTART;TZID=America/Los_Angeles:20260228T083000
DTEND;TZID=America/Los_Angeles:20270306T163000
DTSTAMP:20260425T183634
CREATED:20250912T071805Z
LAST-MODIFIED:20260228T035011Z
UID:46881-1772267400-1804350600@swordxp.com
SUMMARY:Scottish Games & Festival | Green Cove Springs\, FL
DESCRIPTION:[vc_row full_width=”stretch_row_content_no_spaces” content_placement=”middle” el_class=”kberg-bg” css=”.vc_custom_1615075089143{background-color: #0f0f0f !important;background-position: 0 0 !important;background-repeat: no-repeat !important;}”][vc_column][vc_single_image image=”46882″ img_size=”full” alignment=”center” css=”” el_class=”fw-img-banner”][/vc_column][/vc_row][vc_row equal_height=”yes” content_placement=”middle” el_class=”event-schdul sch-head”][vc_column width=”1/6″ el_class=”evn-bx”][vc_column_text el_class=”mrg-out event-icon”][/vc_column_text][vc_column_text css=”” el_class=”ev-bx”] \nStart Date\nFebruary 28th 8:30AM\n[/vc_column_text][/vc_column][vc_column width=”1/6″ el_class=”evn-bx”][vc_column_text el_class=”mrg-out event-icon”][/vc_column_text][vc_column_text css=”” el_class=”ev-bx”] \nEnd Date\nFebruary 28th 4:30PM\n[/vc_column_text][/vc_column][vc_column width=”1/6″ el_class=”evn-bx”][vc_column_text el_class=”mrg-out event-icon”][/vc_column_text][vc_column_text css=”” el_class=”ev-bx”] \nCost\n$80-$130\n[/vc_column_text][/vc_column][vc_column width=”1/6″ el_class=”evn-bx”][vc_column_text el_class=”mrg-out event-icon”][/vc_column_text][vc_column_text el_class=”ev-bx”] \nOrganizer\nThe Sword Experience\n[/vc_column_text][/vc_column][vc_column width=”1/6″ el_class=”evn-bx”][vc_column_text el_class=”mrg-out event-icon”][/vc_column_text][vc_column_text css=”” el_class=”ev-bx”] \n\nClay County Fairgrounds \n2497 State Road 16 West \nGreen Cove Springs\, FL 32043 \n\n[/vc_column_text][/vc_column][vc_column width=”1/6″ el_class=”evn-bx”][vc_column_text el_class=”mrg-out event-icon”][/vc_column_text][vc_column_text css=”” el_class=”ev-bx”] \nEvent Category\nAcademy\nElite\n[/vc_column_text][/vc_column][/vc_row][vc_row el_class=”first-sec col-single”][vc_column][vc_column_text css=”” el_class=”text-center event-timer”] \nFebruary 28th\, 2026 \n[/vc_column_text][vc_column_text css=”” el_class=”header-title-sec text-center”] \nScottish Games & Festival | Green Cove Springs\, FL\nLast year we had such a fantastic response that we had to come back! \nJoin Adrian Paul for a chance to hone your swords skills in one of our four sessions of swordplay\, on February 28th. Whether you have never picked up a sword before\, or if you are experienced\, the sessions will help you with fun trials\, basic handling\, swing control\, attack and defense positions and much more. And don’t worry we are including brand new choreography and techniques so if you came last year you will be sure to get something different this time around. \nIf you just want to meet Adrian\, or take a photo with him\, just come along to our booth\, where you also find Highlander photos and memorabilia\, Sword Experience merchandise and unique items. Don’t miss this chance to meet Duncan Macleod of the Clan Macleod\, in the year honoring The Clan Macleod at TheScottish Games & Festival | Green Cove Springs\, FL. \n*The hour class includes the basics of handling\, footwork\, sword movement and angles. The 1.5 hour basic class adds in targeting exercises\, spatial awareness and partner work.* \n**All attendees must purchase an entrance ticket to the festival to gain access to the Sword Experience event and booth** \n**Please note the ADVANCED SESSION requires previous Sword Training experience OR that you have registered for one of the 1-HOUR sessions prior to the advanced. \n***UPDATE 2/27 Online ticket sales have concluded. Only in-person tickets are now available IF the session isn’t already sold out. Session 1 & 2 still have participant tickets available. \nThe Sword Experience event will be held in one of the buildings on the North Side of the Fairgrounds\, Labeled ‘Building 1’. Please do not disturb any session while it is in session.*** \nSchedule of Session Options Below: \nSession 1 Participant: 8:30AM-9:30AM ($80) \nSession 2 Participant: 10AM-11:30AM ($130) \nSession 3 Participant: 1:30PM-2:30PM ($80) SOLD OUT \nSession 4 Participant ADVANCED: 3PM-4:30PM ($130)[/vc_column_text][/vc_column][/vc_row][vc_row][vc_column][vc_toggle title=”$80 1HR SESSION OR $130 1.5 HOUR SESSION EXPERIENCE INCLUDES:” css=””]Sword Training with Adrian Paul for 1 HOUR or 1.5 HOUR \nSchedule of Session Options Below: \nSession 1 Participant: 8:30AM-9:30AM ($80) \nSession 2 Participant: 10AM-11:30AM ($130) \nSession 3 Participant: 1:30PM-2:30PM ($80) \nSession 4 Participant ADVANCED: 3PM-4:30PM ($130) \nLearn about Payment Plan options through PayPal Credit HERE. \nPlease note that an additional 7% service fee will be reflected at checkout.[/vc_toggle][vc_toggle title=”EVENT DETAILS & RESTRICTIONS:”] \n\nAll Participants must READ\, DIGITALLY SIGN\, & SUBMIT the following three forms before purchase:\n1. TERMS & CONDITIONS\n2. RELEASE OF LIABILITY\n3. IMAGE RELEASE\nNo photos or videos are allowed during the Sword event.\nParticipants must be 18 years old. 15-18 years olds can participate with parental consent and a minimum height of 4 feet\, 6 inches tall. PARENTAL CONSENT FORMS must be filled out and submitted prior to the event.\nPhotos taken by The Sword Experience staff will be sent and posted after the event for participants to download.Learn about Payment Plan options through PayPal Credit HERE.\nPlease note that an additional 7% service fee will be reflected at checkout.\nOur Return Policy is listed under Terms of Use page.\n\n[/vc_toggle][/vc_column][/vc_row]
URL:https://swordxp.com/event/scottish-games-festival-green-cove-springs-fl-2/
LOCATION:NEFL GAMES\, Clay County Fairgrounds 2497 State Road 16 West\, Green Cove Springs\, FL\, 32043\, United States
CATEGORIES:Elite
ATTACH;FMTTYPE=image/jpeg:https://swordxp.com/wp-content/uploads/2025/09/Cross-Swords-With-the-Highlander-Ig.jpg
ORGANIZER;CN="The Sword Experience":MAILTO:contact@swordxp.com
END:VEVENT
BEGIN:VEVENT
DTSTART;TZID=America/Los_Angeles:20260803T090000
DTEND;TZID=America/Los_Angeles:20260808T150000
DTSTAMP:20260425T183634
CREATED:20251018T145521Z
LAST-MODIFIED:20251018T164214Z
UID:47156-1785747600-1786201200@swordxp.com
SUMMARY:Retreat | Scotland
DESCRIPTION:[vc_row full_width=”stretch_row_content_no_spaces” content_placement=”middle” el_class=”kberg-bg” css=”.vc_custom_1615075089143{background-color: #0f0f0f !important;background-position: 0 0 !important;background-repeat: no-repeat !important;}”][vc_column][vc_single_image image=”47157″ img_size=”full” alignment=”center” css=”” el_class=”fw-img-banner”][/vc_column][/vc_row][vc_row equal_height=”yes” content_placement=”middle” el_class=”event-schdul sch-head”][vc_column width=”1/6″ el_class=”evn-bx”][vc_column_text el_class=”mrg-out event-icon”][/vc_column_text][vc_column_text css=”” el_class=”ev-bx”] \nStart Date\nAugust 3rd (TIME TBD)\n[/vc_column_text][/vc_column][vc_column width=”1/6″ el_class=”evn-bx”][vc_column_text el_class=”mrg-out event-icon”][/vc_column_text][vc_column_text css=”” el_class=”ev-bx”] \nEnd Date\nAugust 8th (TIME TBD)\n[/vc_column_text][/vc_column][vc_column width=”1/6″ el_class=”evn-bx”][vc_column_text el_class=”mrg-out event-icon”][/vc_column_text][vc_column_text css=”” el_class=”ev-bx”] \nCost\n$750-$5000\n[/vc_column_text][/vc_column][vc_column width=”1/6″ el_class=”evn-bx”][vc_column_text el_class=”mrg-out event-icon”][/vc_column_text][vc_column_text el_class=”ev-bx”] \nEvent Category\nRetreat\n[/vc_column_text][/vc_column][vc_column width=”1/6″ el_class=”evn-bx”][vc_column_text el_class=”mrg-out event-icon”][/vc_column_text][vc_column_text el_class=”ev-bx”]Various Scottish Locations[/vc_column_text][/vc_column][vc_column width=”1/6″ el_class=”evn-bx”][vc_column_text el_class=”mrg-out event-icon”][/vc_column_text][vc_column_text el_class=”ev-bx”] \nOrganizer\nThe Sword Experience\n[/vc_column_text][/vc_column][/vc_row][vc_row el_class=”first-sec col-single”][vc_column][vc_column_text css=”” el_class=”text-center event-timer”] \nAugust 3rd-August 8th 2026 \n[/vc_column_text][vc_column_text css=”” el_class=”header-title-sec text-center”] \nRetreat | Scotland\nHIGHLANDER: THE MACLEOD EXPERIENCE \nJOIN ADRIAN PAUL AS HE TRAVELS FROM DUNVEGAN CASTLE TO THE GAMES \nExperience an exclusive Highlander tour with Adrian Paul\, when he visits the breathtaking Highland locations through the Isle of Skye\, plus ones where he filmed the now iconic title sequences for Highlander – The Series. August 3rd-August 8th\, join us through stunning Glenncoe\, the iconic Eilean Donan\, picturesque Glenfinnan\, and of course SXP training with the Highlander himself. Historic castles\, stunning glens\, rugged Highland mountain ranges\, and famous landscapes are waiting for you. Did we mention there is an evening meal at the Clan Macleod Gathering at Dunvegan Castle? We’ve got so much in store for you during the Macleod Experience. Make the summer of 2026 unlike any other. \nYour Attendee ticket – Allows access to Participate\, or Spectate\, in all SXP Tour Activities. \nExtremely Limited Availability in 2026. Waitlist will be available once tickets are sold out. \n**Hotel rooms are subject to availability** \nUpgrades upon request. \nPrices subject to change. \nWOW…IN RECORD TIME\, OUR MACLEOD EXPERIENCE IS SOLD OUT. EMAIL CONTACT@SWORDXP.COM TO JOIN THE WAITLIST. IN YOUR WAITLIST EMAIL YOU MUST INCLUDE YOUR NAME(S)\, WHAT ROOM TYPE YOU PREFER (SINGLE\, DOUBLE (Shared Bed)\, TWIN (Two Separate Beds)\, AND IF YOU WANT TO PARTICIPATE IN THE TRAINING OR ONLY SPECTATE. \n[/vc_column_text][/vc_column][/vc_row][vc_row][vc_column][vc_toggle title=”EXCITING TOUR OVERVIEW” css=””]WHAT’S INCLUDED:  6 DAYS 5 NIGHTS\, ACCOMMODATIONS August 3rd-August 8th\, Coach Transport for full tour beginning at Oak Tree Inn and concluding at Glasgow Airport\, Ferry Ride from Armadale to Mallaig\, Glenfinnan\, Glencoe\, Sword training\, Dunstaffnage castle\, Bonnie Prince Charlie Monument Glenfinnan\, Eilean Donan\, Invergarry Castle\, Dunvegan Castle and Dinner with the Clan Macleod\, Kilchurn Castle\, Inveraray Castle\, Entry to the Highland Games\, Tour T-shirt\, Phew\, Bokken to Keep. \nPlus….An Unforgettable Experience \nROOMS \nCheck-In August 3rd – https://www.theoaktreeinn.co.uk/ \nCheck-In August 4th-6th –  House of Juniper OR Broadford \nCheck-In August 7th- Brambles OR Loch Fyne \nAll Breakfasts & Lunches Included \n1 Dinner with the Clan Macleod at Dunvegan Castle \n*Schedule is subject to change. Please check ticket options below to see all perks.*[/vc_toggle][vc_toggle title=”$4700-$5000 TOUR SINGLE (Double Bed)” css=””]Accommodation for 1 person August 3rd-August 8th (You check out on August 8th with more sights to see on the road home to Glasgow) \nPlease note: this ticket includes 1 room with 1 double bed at each location. \nTransportation to tour locations (beginning at the Oak Tree Inn & Concluding at Glasgow Airport) \nSword Training with Adrian Paul at iconic locations \nYour own bokken to take home \nA short edited video of the tour  \nSXP T-Shirt \n1 Pre-Selected Signed Highlander Photo \nROOMS \nCheck-In August 3rd – https://www.theoaktreeinn.co.uk/ \nCheck-In August 4th-6th –  House of Juniper OR Broadford \nCheck-In August 7th- Brambles OR Loch Fyne \nLearn about Payment Plan options through PayPal Credit HERE.\nPlease note that an additional 7% service fee will be reflected at checkout.[/vc_toggle][vc_toggle title=”$3900/person-$4500/person TOUR DOUBLE 2 people Separate Beds (TWIN)” css=””]Accommodation for 2 people August 3rd-August 8th (You check out on August 8th with more sights to see on the road home to Glasgow) \nPlease note: this ticket includes 1 room with 2 twin size beds at each location. \nTransportation to tour locations (beginning at the Oak Tree Inn & Concluding at Glasgow Airport) \nSword Training with Adrian Paul at iconic locations \nYour own bokken to take home \nA short edited video of the tour  \nSXP T-Shirt \n1 Pre-Selected Signed Highlander Photo \nROOMS \nCheck-In August 3rd – https://www.theoaktreeinn.co.uk/ \nCheck-In August 4th-6th –  House of Juniper OR Broadford \nCheck-In August 7th- Brambles OR Loch Fyne \nLearn about Payment Plan options through PayPal Credit HERE.\nPlease note that an additional 7% service fee will be reflected at checkout.[/vc_toggle][vc_toggle title=”$3900/person-$4300/person TOUR DELUXE 2 people (1 Shared Bed)” css=””]Upgraded Stays for 2 People June 30th-July 5th (You check out on July 5th with more sights to see on the road home to Glasgow) \nPlease note: 1 room up to 2 people. Double or King bed at each location. \nTransportation to tour locations (beginning at the Oak Tree Inn & Concluding at Glasgow Airport) \nSword Training with Adrian Paul at iconic locations \nYour own bokken to take home \nA short edited video of the tour  \nSXP T-Shirt \n1 Pre-Selected Signed Highlander Photo \nROOMS \nCheck-In August 3rd – https://www.theoaktreeinn.co.uk/ \nCheck-In August 4th-6th –  House of Juniper OR Broadford \nCheck-In August 7th- Brambles OR Loch Fyne \nLearn about Payment Plan options through PayPal Credit HERE.\nPlease note that an additional 7% service fee will be reflected at checkout.[/vc_toggle][vc_toggle title=”$750 DEPOSIT (PER PERSON)” css=””]We are offering a $750 deposit (per person) to claim your spot now. Very limited spots available due to transport and accommodation limitation. \nThe deposit is refundable until November 7\, 2025. Full payment must be made by December 7th. For monthly installments\, email-contact@swordxp.com. \nLearn about Payment Plan options through PayPal Credit HERE.\nPlease note that an additional 7% service fee will be reflected at checkout. \n.[/vc_toggle][vc_toggle title=”FAQ” css=””] \n**All answers listed are ONLY recommendations and we encourage all travelers to do their own due diligence in research before making any purchases** \nQ) Where does the Scotland tour begin? \nA) The tour begins from Oak Tree Inn Balmaha\, on the shores of Loch Lomond. \nQ)What airport is recommended? \nA) We recommend flying into Glasgow Airport as this is where the tour concludes on August 8th. Edinburgh however is only 1 hour away by train. \nQ)Is there transportation from the hotels to locations? \nA)The transportation for the arrival and departure of the tour to the hotel is up to each individual as everyone will be arriving and departing at varying times. \nQ) What nights are included at hotels? \nA) \nCheck-In August 3rd – https://www.theoaktreeinn.co.uk/ \nCheck-In August 4th-6th –  House of Juniper OR Broadford \nCheck-In August 7th- Brambles OR Loch Fyne \nOn the morning of the August 8th the tour group will make its way back to Glasgow where folks can fly out that night or decide to continue exploring Scotland on their own. \nQ) Can I make my own way on the Scotland Tour? \nA) This is not currently an available option but may be added later on. \nQ)Can I take photos and videos on the tours? \nA)Yes! \nQ)Will Adrian Paul be teaching at the SXP events? \nA)Yes! \nQ) What Kind of Currency Should I Bring? \nA) It’s always advisable to have cash in addition to cards. How you decide to do that with a bank machine or bringing dollars to convert to Uk Pounds is a personal choice. \nQ) What Size Luggage Can I Bring? \nA) Due to coach/minibus transport limitations everyone is allowed only one medium size suitcase and a purse/personal bag to keep on their lap. \n.[/vc_toggle][vc_toggle title=”EVENT DETAILS & RESTRICTIONS:”] \n\nAll Participants must READ\, DIGITALLY SIGN\, & SUBMIT the following three forms before purchase:\n1. TERMS & CONDITIONS\n2. RELEASE OF LIABILITY\n3. IMAGE RELEASE\nNo photos or videos are allowed during the Sword event.\nParticipants must be 18 years old. 15-18 years olds can participate with parental consent and a minimum height of 4 feet\, 6 inches tall. PARENTAL CONSENT FORMS must be filled out and submitted prior to the event.\nPhotos taken by The Sword Experience staff will be sent and posted after the event for participants to download.Learn about Payment Plan options through PayPal Credit HERE.\nPlease note that an additional 7% service fee will be reflected at checkout.\nOur Return Policy is listed under Terms of Use page.\n\n[/vc_toggle][/vc_column][/vc_row][vc_row][vc_column][vc_column_text] \n[/vc_column_text][/vc_column][/vc_row]
URL:https://swordxp.com/event/retreat-scotland-3/
LOCATION:OH
CATEGORIES:Elite
ATTACH;FMTTYPE=image/jpeg:https://swordxp.com/wp-content/uploads/2025/10/Highland-Games-Scotland-Aug-3-8-2026-Ig.jpg
ORGANIZER;CN="The Sword Experience":MAILTO:contact@swordxp.com
END:VEVENT
BEGIN:VEVENT
DTSTART;TZID=America/Los_Angeles:20260803T090000
DTEND;TZID=America/Los_Angeles:20260808T150000
DTSTAMP:20260425T183634
CREATED:20251029T062452Z
LAST-MODIFIED:20260316T063012Z
UID:47276-1785747600-1786201200@swordxp.com
SUMMARY:Retreat | August Scotland Private
DESCRIPTION:Content is protected.
URL:https://swordxp.com/event/retreat-august-scotland-private/
LOCATION:OH
CATEGORIES:Elite
ORGANIZER;CN="The Sword Experience":MAILTO:contact@swordxp.com
END:VEVENT
END:VCALENDAR