BEGIN:VCALENDAR
VERSION:2.0
PRODID:-//Best Sword Fighting Techniques - ECPv6.15.20//NONSGML v1.0//EN
CALSCALE:GREGORIAN
METHOD:PUBLISH
X-ORIGINAL-URL:https://swordxp.com
X-WR-CALDESC:Events for Best Sword Fighting Techniques
REFRESH-INTERVAL;VALUE=DURATION:PT1H
X-Robots-Tag:noindex
X-PUBLISHED-TTL:PT1H
BEGIN:VTIMEZONE
TZID:America/Los_Angeles
BEGIN:DAYLIGHT
TZOFFSETFROM:-0800
TZOFFSETTO:-0700
TZNAME:PDT
DTSTART:20250309T100000
END:DAYLIGHT
BEGIN:STANDARD
TZOFFSETFROM:-0700
TZOFFSETTO:-0800
TZNAME:PST
DTSTART:20251102T090000
END:STANDARD
BEGIN:DAYLIGHT
TZOFFSETFROM:-0800
TZOFFSETTO:-0700
TZNAME:PDT
DTSTART:20260308T100000
END:DAYLIGHT
BEGIN:STANDARD
TZOFFSETFROM:-0700
TZOFFSETTO:-0800
TZNAME:PST
DTSTART:20261101T090000
END:STANDARD
BEGIN:DAYLIGHT
TZOFFSETFROM:-0800
TZOFFSETTO:-0700
TZNAME:PDT
DTSTART:20270314T100000
END:DAYLIGHT
BEGIN:STANDARD
TZOFFSETFROM:-0700
TZOFFSETTO:-0800
TZNAME:PST
DTSTART:20271107T090000
END:STANDARD
BEGIN:DAYLIGHT
TZOFFSETFROM:-0800
TZOFFSETTO:-0700
TZNAME:PDT
DTSTART:20280312T100000
END:DAYLIGHT
BEGIN:STANDARD
TZOFFSETFROM:-0700
TZOFFSETTO:-0800
TZNAME:PST
DTSTART:20281105T090000
END:STANDARD
END:VTIMEZONE
BEGIN:VEVENT
DTSTART;TZID=America/Los_Angeles:20260228T083000
DTEND;TZID=America/Los_Angeles:20270306T163000
DTSTAMP:20260425T105106
CREATED:20250912T071805Z
LAST-MODIFIED:20260228T035011Z
UID:46881-1772267400-1804350600@swordxp.com
SUMMARY:Scottish Games & Festival | Green Cove Springs\, FL
DESCRIPTION:[vc_row full_width=”stretch_row_content_no_spaces” content_placement=”middle” el_class=”kberg-bg” css=”.vc_custom_1615075089143{background-color: #0f0f0f !important;background-position: 0 0 !important;background-repeat: no-repeat !important;}”][vc_column][vc_single_image image=”46882″ img_size=”full” alignment=”center” css=”” el_class=”fw-img-banner”][/vc_column][/vc_row][vc_row equal_height=”yes” content_placement=”middle” el_class=”event-schdul sch-head”][vc_column width=”1/6″ el_class=”evn-bx”][vc_column_text el_class=”mrg-out event-icon”][/vc_column_text][vc_column_text css=”” el_class=”ev-bx”] \nStart Date\nFebruary 28th 8:30AM\n[/vc_column_text][/vc_column][vc_column width=”1/6″ el_class=”evn-bx”][vc_column_text el_class=”mrg-out event-icon”][/vc_column_text][vc_column_text css=”” el_class=”ev-bx”] \nEnd Date\nFebruary 28th 4:30PM\n[/vc_column_text][/vc_column][vc_column width=”1/6″ el_class=”evn-bx”][vc_column_text el_class=”mrg-out event-icon”][/vc_column_text][vc_column_text css=”” el_class=”ev-bx”] \nCost\n$80-$130\n[/vc_column_text][/vc_column][vc_column width=”1/6″ el_class=”evn-bx”][vc_column_text el_class=”mrg-out event-icon”][/vc_column_text][vc_column_text el_class=”ev-bx”] \nOrganizer\nThe Sword Experience\n[/vc_column_text][/vc_column][vc_column width=”1/6″ el_class=”evn-bx”][vc_column_text el_class=”mrg-out event-icon”][/vc_column_text][vc_column_text css=”” el_class=”ev-bx”] \n\nClay County Fairgrounds \n2497 State Road 16 West \nGreen Cove Springs\, FL 32043 \n\n[/vc_column_text][/vc_column][vc_column width=”1/6″ el_class=”evn-bx”][vc_column_text el_class=”mrg-out event-icon”][/vc_column_text][vc_column_text css=”” el_class=”ev-bx”] \nEvent Category\nAcademy\nElite\n[/vc_column_text][/vc_column][/vc_row][vc_row el_class=”first-sec col-single”][vc_column][vc_column_text css=”” el_class=”text-center event-timer”] \nFebruary 28th\, 2026 \n[/vc_column_text][vc_column_text css=”” el_class=”header-title-sec text-center”] \nScottish Games & Festival | Green Cove Springs\, FL\nLast year we had such a fantastic response that we had to come back! \nJoin Adrian Paul for a chance to hone your swords skills in one of our four sessions of swordplay\, on February 28th. Whether you have never picked up a sword before\, or if you are experienced\, the sessions will help you with fun trials\, basic handling\, swing control\, attack and defense positions and much more. And don’t worry we are including brand new choreography and techniques so if you came last year you will be sure to get something different this time around. \nIf you just want to meet Adrian\, or take a photo with him\, just come along to our booth\, where you also find Highlander photos and memorabilia\, Sword Experience merchandise and unique items. Don’t miss this chance to meet Duncan Macleod of the Clan Macleod\, in the year honoring The Clan Macleod at TheScottish Games & Festival | Green Cove Springs\, FL. \n*The hour class includes the basics of handling\, footwork\, sword movement and angles. The 1.5 hour basic class adds in targeting exercises\, spatial awareness and partner work.* \n**All attendees must purchase an entrance ticket to the festival to gain access to the Sword Experience event and booth** \n**Please note the ADVANCED SESSION requires previous Sword Training experience OR that you have registered for one of the 1-HOUR sessions prior to the advanced. \n***UPDATE 2/27 Online ticket sales have concluded. Only in-person tickets are now available IF the session isn’t already sold out. Session 1 & 2 still have participant tickets available. \nThe Sword Experience event will be held in one of the buildings on the North Side of the Fairgrounds\, Labeled ‘Building 1’. Please do not disturb any session while it is in session.*** \nSchedule of Session Options Below: \nSession 1 Participant: 8:30AM-9:30AM ($80) \nSession 2 Participant: 10AM-11:30AM ($130) \nSession 3 Participant: 1:30PM-2:30PM ($80) SOLD OUT \nSession 4 Participant ADVANCED: 3PM-4:30PM ($130)[/vc_column_text][/vc_column][/vc_row][vc_row][vc_column][vc_toggle title=”$80 1HR SESSION OR $130 1.5 HOUR SESSION EXPERIENCE INCLUDES:” css=””]Sword Training with Adrian Paul for 1 HOUR or 1.5 HOUR \nSchedule of Session Options Below: \nSession 1 Participant: 8:30AM-9:30AM ($80) \nSession 2 Participant: 10AM-11:30AM ($130) \nSession 3 Participant: 1:30PM-2:30PM ($80) \nSession 4 Participant ADVANCED: 3PM-4:30PM ($130) \nLearn about Payment Plan options through PayPal Credit HERE. \nPlease note that an additional 7% service fee will be reflected at checkout.[/vc_toggle][vc_toggle title=”EVENT DETAILS & RESTRICTIONS:”] \n\nAll Participants must READ\, DIGITALLY SIGN\, & SUBMIT the following three forms before purchase:\n1. TERMS & CONDITIONS\n2. RELEASE OF LIABILITY\n3. IMAGE RELEASE\nNo photos or videos are allowed during the Sword event.\nParticipants must be 18 years old. 15-18 years olds can participate with parental consent and a minimum height of 4 feet\, 6 inches tall. PARENTAL CONSENT FORMS must be filled out and submitted prior to the event.\nPhotos taken by The Sword Experience staff will be sent and posted after the event for participants to download.Learn about Payment Plan options through PayPal Credit HERE.\nPlease note that an additional 7% service fee will be reflected at checkout.\nOur Return Policy is listed under Terms of Use page.\n\n[/vc_toggle][/vc_column][/vc_row]
URL:https://swordxp.com/event/scottish-games-festival-green-cove-springs-fl-2/
LOCATION:NEFL GAMES\, Clay County Fairgrounds 2497 State Road 16 West\, Green Cove Springs\, FL\, 32043\, United States
CATEGORIES:Elite
ATTACH;FMTTYPE=image/jpeg:https://swordxp.com/wp-content/uploads/2025/09/Cross-Swords-With-the-Highlander-Ig.jpg
ORGANIZER;CN="The Sword Experience":MAILTO:contact@swordxp.com
END:VEVENT
BEGIN:VEVENT
DTSTART;TZID=America/Los_Angeles:20260320T150000
DTEND;TZID=America/Los_Angeles:20260322T160000
DTSTAMP:20260425T105106
CREATED:20260108T075109Z
LAST-MODIFIED:20260223T230622Z
UID:48056-1774018800-1774195200@swordxp.com
SUMMARY:Weekend Retreat | Sedona\, Arizona
DESCRIPTION:[vc_row full_width=”stretch_row_content_no_spaces” content_placement=”middle” el_class=”kberg-bg” css=”.vc_custom_1615075089143{background-color: #0f0f0f !important;background-position: 0 0 !important;background-repeat: no-repeat !important;}”][vc_column][vc_single_image image=”48057″ img_size=”full” alignment=”center” css=”” el_class=”fw-img-banner”][/vc_column][/vc_row][vc_row equal_height=”yes” content_placement=”middle” el_class=”event-schdul sch-head”][vc_column width=”1/6″ el_class=”evn-bx”][vc_column_text el_class=”mrg-out event-icon”][/vc_column_text][vc_column_text css=”” el_class=”ev-bx”] \nStart Date\nMarch 20th 3:00PM\n[/vc_column_text][/vc_column][vc_column width=”1/6″ el_class=”evn-bx”][vc_column_text el_class=”mrg-out event-icon”][/vc_column_text][vc_column_text css=”” el_class=”ev-bx”] \nEnd Date\nMarch 22nd 4:00PM\n[/vc_column_text][/vc_column][vc_column width=”1/6″ el_class=”evn-bx”][vc_column_text el_class=”mrg-out event-icon”][/vc_column_text][vc_column_text css=”” el_class=”ev-bx”] \nCost\n$1450-$3900\n[/vc_column_text][/vc_column][vc_column width=”1/6″ el_class=”evn-bx”][vc_column_text el_class=”mrg-out event-icon”][/vc_column_text][vc_column_text css=”” el_class=”ev-bx”] \nEvent Category\nRetreat\n[/vc_column_text][/vc_column][vc_column width=”1/6″ el_class=”evn-bx”][vc_column_text el_class=”mrg-out event-icon”][/vc_column_text][vc_column_text css=”” el_class=”ev-bx”] \nTaawaki Inn\n441 S Broadway\, Clarkdale\, AZ 86324\n[/vc_column_text][/vc_column][vc_column width=”1/6″ el_class=”evn-bx”][vc_column_text el_class=”mrg-out event-icon”][/vc_column_text][vc_column_text el_class=”ev-bx”] \nOrganizer\nThe Sword Experience\n[/vc_column_text][/vc_column][/vc_row][vc_row el_class=”first-sec col-single”][vc_column][vc_column_text css=”” el_class=”text-center event-timer”] \nMarch 20th-22nd\, 2026 \n[/vc_column_text][vc_column_text css=””] \nSedona\, Arizona\n\nRed rock\, open sky\, and unforgiving terrain. An environment that demands presence\, strength\, and control. Where movement becomes intention\, training becomes ritual\, and focus is forged through effort.\n\n\nThis March 20th-22nd return to discipline\, to skill\, to the work that will sharpen both your mind and body.\n\n\nThe response has already been incredible\, and with limited accommodations\, spots will be secured on a first-come\, first-served basis.\n\n\nIf Sedona has been calling your name\, this is your sign.\nSpots are very limited. Don’t delay.\n*Please note this weekend retreat will include light hiking/extended walks. Please ensure that you are comfortable with this activity prior to signing up. Any concerns regarding mobility can be emailed to contact@swordxp.com*\n\n[/vc_column_text][/vc_column][/vc_row][vc_row][vc_column][vc_toggle title=”SINGLE $2450 OR TWO PERSON $3900- FULL TOUR EXPERIENCE INCLUDES” css=””]Check-In 3PM March 20th \nEvent Concludes by 4PM March 22nd \nAccommodation for 2 nights at the Taawaki Inn\, check-out on Sunday morning. (If booking a two person ticket be sure to note upon check-out if you are okay to share a bed or need an option with two beds) \nAccess to all Sword Training Sessions with Adrian Paul \n1 cocktail voucher for the Tavern Grille per person.\n\n1 Breakfast voucher per person each morning for Crema Craft Kitchen and Bar\, the voucher is valid for a coffee and pastry or $5 off anything on their menu.\nLunch on Saturday & Sunday \nYoga Session\n\nMeditation Session\n\nVisits to Vortex Site\nLow to Moderate Hiking \nTransportation for all activities on Saturday and Sunday concluding with a drop-off back at the Taawaki Inn. \nSXP Goodie Bundle \nLearn about Payment Plan options through PayPal Credit HERE.\nPlease note that an additional 7% service fee will be reflected at checkout.[/vc_toggle][vc_toggle title=”SINGLE $1750 OR TWO PERSON $3200- NO ACCOMMODATION EXPERIENCE INCLUDES” css=””]Check-In 3PM March 20th \nEvent Concludes by 4PM March 22nd \nAccess to all Sword Training Sessions with Adrian Paul \nLunch on Saturday & Sunday \nYoga Session\n\nMeditation Session\n\nVisits to Vortex Site\nLow to Moderate Hiking \nTransportation for all activities on Saturday and Sunday concluding with a drop-off back at the Taawaki Inn. \nSXP Goodie Bundle \nLearn about Payment Plan options through PayPal Credit HERE.\nPlease note that an additional 7% service fee will be reflected at checkout.[/vc_toggle][vc_toggle title=”SINGLE $1450 OR TWO PERSON $2750- NO ACCOMMODATION & NO TRANSPORT EXPERIENCE INCLUDES” css=””]Check-In 3PM March 20th \nEvent Concludes by 4PM March 22nd \nAccess to all Sword Training Sessions with Adrian Paul \nLunch on Saturday & Sunday \nYoga Session\n\nMeditation Session\n\nVisits to Vortex Site\nLow to Moderate Hiking \nSXP Goodie Bundle \nTransportation for all activities on Saturday and Sunday is not included. A schedule with times and locations will be provided and you are responsible for following our coach or meeting at each place. \nLearn about Payment Plan options through PayPal Credit HERE.\nPlease note that an additional 7% service fee will be reflected at checkout.[/vc_toggle][vc_toggle title=”TENTATIVE SCHEDULE” css=””]Friday March 20th \nMeet at Taawaki Inn \nCheck in 3:00pm  \nBegin Seminar 4:00pm  \nTrail Walk (Jail Trail) lead by Adrian Paul \nSaturday March 21st \n(Breakfast is available starting at 7AM) \n8am – 9am – Meditation \n9:30 – TUZIGOOT RIVER ACCESS  \n 9:30- 9:40 – Travel to MONUMENT  \n9:40 – 11:00am : TUZIGOOT RIVER ACCESS  Training w/ Adrian Paul \n11:00am- 11:30 – Walk to TUZIGOOT National Monument  \n11:300am- 12:15pm Visit TUZIGOOT National Monument   \n12:15pm – 12:30pm   Travel to Tavern Grille lunch (Old Town Cottonwood)  \n12:30pm – 1:30pm – Lunch Break \n1:30pm – 2:00pm travel to Tlaqupaque shops\, arts and crafts etc.  \n2;00pm – 3:00pm Visit Tlaqupaque shops\, arts and crafts etc.  \n3:00pm –3;15pm – Travel to Possee Grounds park  \n3:15pm – 4:15pm – Sword Training Possee Grounds park w/ Adrian Paul \n4:30pm – 4:50pm Travel to Chapel of the Holy Cross  \n4:50pm – 5:00pm – Visit Chapel of the Holy Cross  \n5:15pm – 5:30pm travel to Airport Mesa  \n5:30pm – Airport Mesa  \nVORTEX SUMMIT TRAIL (SATURDAY SUNSET HIKE) 6:40PM Sunset  \n7:30pm-8:00pm –  Return to Taawaki Inn   \nSunday 22 March  \n8:00am -9:00am Yoga with Kelly From Sedona Yoga Experiences \n9:00am -10am Breakfast  \n10:00am check out of hotel  \n10;00am – 10:15am travel to Dead Horse Ranch State Park    \n10:15 am – 11:45 am – Dead Horse State Park Sword training with Adrian Paul  \n11:45am -12:30pm – Travel to Cathedral Rock/Crescent Moon Picnic \n12:30pm- 1:15pm –  Catered lunch picnic  \n1:15pm-2:30pm Training at Cathedral Rock with Adrian Paul \n2:30pm- 4:00pm Hike Cathedral Rock  \n4:00pm return to Taawaki Inn to Collect Luggage and Seminar concludes \n   \nCathedral Rock – Distance: 1.2 miles out-and-back  \nDifficulty: Easy (1.2 mi Deadwood state park ranch. out and back) | Moderate-Hard (9 mi loop)  \n  \n- Crescent Moon Picnic Site (SUNDAY)  \n\nAlternative Exploration: Visitors often explore the area around the base of Cathedral Rock from the Crescent Moon side\, but a direct\, easy hike to the top is not available. E-bikes are also available in the area for exploring designated paths\, but not unpaved hiking trails. \n\n\nLunch\n\n  \n  \n  \n [/vc_toggle][vc_toggle title=”EVENT DETAILS & RESTRICTIONS:”] \n\nAll Participants must READ\, DIGITALLY SIGN\, & SUBMIT the following three forms before purchase:\n1. TERMS & CONDITIONS\n2. RELEASE OF LIABILITY\n3. IMAGE RELEASE\nNo photos or videos are allowed during the Sword event.\nParticipants must be 18 years old. 15-18 years olds can participate with parental consent and a minimum height of 4 feet\, 6 inches tall. PARENTAL CONSENT FORMS must be filled out and submitted prior to the event.\nPhotos taken by The Sword Experience staff will be sent and posted after the event for participants to download.Learn about Payment Plan options through PayPal Credit HERE.\nPlease note that an additional 7% service fee will be reflected at checkout.\nOur Return Policy is listed under Terms of Use page.\n\n[/vc_toggle][/vc_column][/vc_row]
URL:https://swordxp.com/event/weekend-retreat-sedona-arizona/
LOCATION:Taawaki Inn\, 441 S Broadway\,\, Clarkdale\, AZ\, 86324
CATEGORIES:Elite
ATTACH;FMTTYPE=image/jpeg:https://swordxp.com/wp-content/uploads/2026/01/Sedona-Arizona-March-20-22-Ig.jpg
ORGANIZER;CN="The Sword Experience":MAILTO:contact@swordxp.com
END:VEVENT
END:VCALENDAR