BEGIN:VCALENDAR
VERSION:2.0
PRODID:-//Best Sword Fighting Techniques - ECPv6.15.20//NONSGML v1.0//EN
CALSCALE:GREGORIAN
METHOD:PUBLISH
X-WR-CALNAME:Best Sword Fighting Techniques
X-ORIGINAL-URL:https://swordxp.com
X-WR-CALDESC:Events for Best Sword Fighting Techniques
REFRESH-INTERVAL;VALUE=DURATION:PT1H
X-Robots-Tag:noindex
X-PUBLISHED-TTL:PT1H
BEGIN:VTIMEZONE
TZID:America/Los_Angeles
BEGIN:DAYLIGHT
TZOFFSETFROM:-0800
TZOFFSETTO:-0700
TZNAME:PDT
DTSTART:20250309T100000
END:DAYLIGHT
BEGIN:STANDARD
TZOFFSETFROM:-0700
TZOFFSETTO:-0800
TZNAME:PST
DTSTART:20251102T090000
END:STANDARD
BEGIN:DAYLIGHT
TZOFFSETFROM:-0800
TZOFFSETTO:-0700
TZNAME:PDT
DTSTART:20260308T100000
END:DAYLIGHT
BEGIN:STANDARD
TZOFFSETFROM:-0700
TZOFFSETTO:-0800
TZNAME:PST
DTSTART:20261101T090000
END:STANDARD
BEGIN:DAYLIGHT
TZOFFSETFROM:-0800
TZOFFSETTO:-0700
TZNAME:PDT
DTSTART:20270314T100000
END:DAYLIGHT
BEGIN:STANDARD
TZOFFSETFROM:-0700
TZOFFSETTO:-0800
TZNAME:PST
DTSTART:20271107T090000
END:STANDARD
END:VTIMEZONE
BEGIN:VEVENT
DTSTART;TZID=America/Los_Angeles:20260118T093000
DTEND;TZID=America/Los_Angeles:20260118T170000
DTSTAMP:20260425T172228
CREATED:20251029T060338Z
LAST-MODIFIED:20260116T070043Z
UID:47257-1768728600-1768755600@swordxp.com
SUMMARY:Start of the Year Seminar | Dallas\, Texas
DESCRIPTION:[vc_row full_width=”stretch_row_content_no_spaces” content_placement=”middle” el_class=”kberg-bg” css=”.vc_custom_1615075089143{background-color: #0f0f0f !important;background-position: 0 0 !important;background-repeat: no-repeat !important;}”][vc_column][vc_single_image image=”47258″ img_size=”full” alignment=”center” css=”” el_class=”fw-img-banner”][/vc_column][/vc_row][vc_row equal_height=”yes” content_placement=”middle” el_class=”event-schdul sch-head”][vc_column width=”1/6″ el_class=”evn-bx”][vc_column_text el_class=”mrg-out event-icon”][/vc_column_text][vc_column_text css=”” el_class=”ev-bx”] \nStart Date\nJanuary 18th 9:20AM\n[/vc_column_text][/vc_column][vc_column width=”1/6″ el_class=”evn-bx”][vc_column_text el_class=”mrg-out event-icon”][/vc_column_text][vc_column_text css=”” el_class=”ev-bx”] \nEnd Date\nJanuary 18th 5:00PM\n[/vc_column_text][/vc_column][vc_column width=”1/6″ el_class=”evn-bx”][vc_column_text el_class=”mrg-out event-icon”][/vc_column_text][vc_column_text css=”” el_class=”ev-bx”] \nCost\n$595\n[/vc_column_text][/vc_column][vc_column width=”1/6″ el_class=”evn-bx”][vc_column_text el_class=”mrg-out event-icon”][/vc_column_text][vc_column_text css=”” el_class=”ev-bx”] \nEvent Category\nAcademy\nElite\n[/vc_column_text][/vc_column][vc_column width=”1/6″ el_class=”evn-bx”][vc_column_text el_class=”mrg-out event-icon”][/vc_column_text][vc_column_text css=”” el_class=”ev-bx”] \nThe Drawing Board\n1900 Jay Ell Dr\, Richardson\, TX 75081\n[/vc_column_text][/vc_column][vc_column width=”1/6″ el_class=”evn-bx”][vc_column_text el_class=”mrg-out event-icon”][/vc_column_text][vc_column_text el_class=”ev-bx”] \nOrganizer\nThe Sword Experience\n[/vc_column_text][/vc_column][/vc_row][vc_row el_class=”first-sec col-single”][vc_column][vc_column_text css=”” el_class=”text-center event-timer”] \nJanuary 18th\, 2026 \n[/vc_column_text][vc_column_text css=””] \nSXP Start of the Year Seminar | Dallas\, Texas\nJoin us for an unforgettable beginning-of-year celebration with The Sword Experience! This action-packed event features dynamic sword training sessions\, engaging knife and sword presentations\, with exercises to fuel both body and mind.  Not only will you have the chance to train with Adrian Paul but you’ll be able to learn how knives are forged with live knife forging by Ron Hardman (a winner from “Forged in Fire”): participate in a knife disarming workshop with martial arts expert and use of force instructor at the HIllsborough County Sheriff’s Office\, Anthony Barnebeo. as well as other sessions aimed to help you connect\, learn\, and begin the year with focus and determination. AND you’ll get a catered lunch. \nThis seminar brings together fans and friends for a day of skill-building\, camaraderie\, and memorable moments\, as we kick off the new year! \nAll tickets are attendee tickets\, which means you can choose if you’d like to participate or spectate in the sessions depending on your level of comfort. \nDon’t miss out on this extraordinary gathering.[/vc_column_text][/vc_column][/vc_row][vc_row][vc_column][vc_toggle title=”$595 – FULL DAY EXPERIENCE INCLUDES” css=””]Check-In 9:20AM \nEvent Concludes by 5PM \nAccess to ALL sessions & Catered Lunch \nUse of bokkens/knives for training will be provided to use on the day so no need to bring your own. \n*Sessions are Subject to change*\nSessions Include:\nSXP stretching warm up & Sword Movement with Adrian Paul\nPracticing Somatic Sword movement- emphasizing the experience of movement from internal\, rather than an external\, perspectives.\nLive Knife Forging with Ron Hardman\nKnife Disarm Workshop with Anthony Bernabeo\nKnife Kata Instruction with Adrian Paul\nReal Life Awareness Applications with Adrian Paul and Anthony Bernabeo\nKnife and Sword Drills with Adrian Paul and Anthony Bernabeo \nLearn about Payment Plan options through PayPal Credit HERE.\nPlease note that an additional 7% service fee will be reflected at checkout.[/vc_toggle][vc_toggle title=”EVENT DETAILS & RESTRICTIONS:”] \n\nAll Participants must READ\, DIGITALLY SIGN\, & SUBMIT the following three forms before purchase:\n1. TERMS & CONDITIONS\n2. RELEASE OF LIABILITY\n3. IMAGE RELEASE\nNo photos or videos are allowed during the Sword event.\nParticipants must be 18 years old. 15-18 years olds can participate with parental consent and a minimum height of 4 feet\, 6 inches tall. PARENTAL CONSENT FORMS must be filled out and submitted prior to the event.\nPhotos taken by The Sword Experience staff will be sent and posted after the event for participants to download.Learn about Payment Plan options through PayPal Credit HERE.\nPlease note that an additional 7% service fee will be reflected at checkout.\nOur Return Policy is listed under Terms of Use page.\n\n[/vc_toggle][/vc_column][/vc_row]
URL:https://swordxp.com/event/start-of-the-year-seminar-dallas-texas/
LOCATION:The Drawing Board\, 1900 Jay Ell Dr\, Richardson\, TX\, 75081\, United States
CATEGORIES:Elite
ATTACH;FMTTYPE=image/jpeg:https://swordxp.com/wp-content/uploads/2025/10/January-18th-end-of-the-Year_IG.jpg
ORGANIZER;CN="The Sword Experience":MAILTO:contact@swordxp.com
END:VEVENT
END:VCALENDAR