BEGIN:VCALENDAR
VERSION:2.0
PRODID:-//Best Sword Fighting Techniques - ECPv6.15.20//NONSGML v1.0//EN
CALSCALE:GREGORIAN
METHOD:PUBLISH
X-ORIGINAL-URL:https://swordxp.com
X-WR-CALDESC:Events for Best Sword Fighting Techniques
REFRESH-INTERVAL;VALUE=DURATION:PT1H
X-Robots-Tag:noindex
X-PUBLISHED-TTL:PT1H
BEGIN:VTIMEZONE
TZID:America/Los_Angeles
BEGIN:DAYLIGHT
TZOFFSETFROM:-0800
TZOFFSETTO:-0700
TZNAME:PDT
DTSTART:20250309T100000
END:DAYLIGHT
BEGIN:STANDARD
TZOFFSETFROM:-0700
TZOFFSETTO:-0800
TZNAME:PST
DTSTART:20251102T090000
END:STANDARD
BEGIN:DAYLIGHT
TZOFFSETFROM:-0800
TZOFFSETTO:-0700
TZNAME:PDT
DTSTART:20260308T100000
END:DAYLIGHT
BEGIN:STANDARD
TZOFFSETFROM:-0700
TZOFFSETTO:-0800
TZNAME:PST
DTSTART:20261101T090000
END:STANDARD
BEGIN:DAYLIGHT
TZOFFSETFROM:-0800
TZOFFSETTO:-0700
TZNAME:PDT
DTSTART:20270314T100000
END:DAYLIGHT
BEGIN:STANDARD
TZOFFSETFROM:-0700
TZOFFSETTO:-0800
TZNAME:PST
DTSTART:20271107T090000
END:STANDARD
BEGIN:DAYLIGHT
TZOFFSETFROM:-0800
TZOFFSETTO:-0700
TZNAME:PDT
DTSTART:20280312T100000
END:DAYLIGHT
BEGIN:STANDARD
TZOFFSETFROM:-0700
TZOFFSETTO:-0800
TZNAME:PST
DTSTART:20281105T090000
END:STANDARD
END:VTIMEZONE
BEGIN:VEVENT
DTSTART;TZID=America/Los_Angeles:20260228T083000
DTEND;TZID=America/Los_Angeles:20270306T163000
DTSTAMP:20260425T075039
CREATED:20250912T071805Z
LAST-MODIFIED:20260228T035011Z
UID:46881-1772267400-1804350600@swordxp.com
SUMMARY:Scottish Games & Festival | Green Cove Springs\, FL
DESCRIPTION:[vc_row full_width=”stretch_row_content_no_spaces” content_placement=”middle” el_class=”kberg-bg” css=”.vc_custom_1615075089143{background-color: #0f0f0f !important;background-position: 0 0 !important;background-repeat: no-repeat !important;}”][vc_column][vc_single_image image=”46882″ img_size=”full” alignment=”center” css=”” el_class=”fw-img-banner”][/vc_column][/vc_row][vc_row equal_height=”yes” content_placement=”middle” el_class=”event-schdul sch-head”][vc_column width=”1/6″ el_class=”evn-bx”][vc_column_text el_class=”mrg-out event-icon”][/vc_column_text][vc_column_text css=”” el_class=”ev-bx”] \nStart Date\nFebruary 28th 8:30AM\n[/vc_column_text][/vc_column][vc_column width=”1/6″ el_class=”evn-bx”][vc_column_text el_class=”mrg-out event-icon”][/vc_column_text][vc_column_text css=”” el_class=”ev-bx”] \nEnd Date\nFebruary 28th 4:30PM\n[/vc_column_text][/vc_column][vc_column width=”1/6″ el_class=”evn-bx”][vc_column_text el_class=”mrg-out event-icon”][/vc_column_text][vc_column_text css=”” el_class=”ev-bx”] \nCost\n$80-$130\n[/vc_column_text][/vc_column][vc_column width=”1/6″ el_class=”evn-bx”][vc_column_text el_class=”mrg-out event-icon”][/vc_column_text][vc_column_text el_class=”ev-bx”] \nOrganizer\nThe Sword Experience\n[/vc_column_text][/vc_column][vc_column width=”1/6″ el_class=”evn-bx”][vc_column_text el_class=”mrg-out event-icon”][/vc_column_text][vc_column_text css=”” el_class=”ev-bx”] \n\nClay County Fairgrounds \n2497 State Road 16 West \nGreen Cove Springs\, FL 32043 \n\n[/vc_column_text][/vc_column][vc_column width=”1/6″ el_class=”evn-bx”][vc_column_text el_class=”mrg-out event-icon”][/vc_column_text][vc_column_text css=”” el_class=”ev-bx”] \nEvent Category\nAcademy\nElite\n[/vc_column_text][/vc_column][/vc_row][vc_row el_class=”first-sec col-single”][vc_column][vc_column_text css=”” el_class=”text-center event-timer”] \nFebruary 28th\, 2026 \n[/vc_column_text][vc_column_text css=”” el_class=”header-title-sec text-center”] \nScottish Games & Festival | Green Cove Springs\, FL\nLast year we had such a fantastic response that we had to come back! \nJoin Adrian Paul for a chance to hone your swords skills in one of our four sessions of swordplay\, on February 28th. Whether you have never picked up a sword before\, or if you are experienced\, the sessions will help you with fun trials\, basic handling\, swing control\, attack and defense positions and much more. And don’t worry we are including brand new choreography and techniques so if you came last year you will be sure to get something different this time around. \nIf you just want to meet Adrian\, or take a photo with him\, just come along to our booth\, where you also find Highlander photos and memorabilia\, Sword Experience merchandise and unique items. Don’t miss this chance to meet Duncan Macleod of the Clan Macleod\, in the year honoring The Clan Macleod at TheScottish Games & Festival | Green Cove Springs\, FL. \n*The hour class includes the basics of handling\, footwork\, sword movement and angles. The 1.5 hour basic class adds in targeting exercises\, spatial awareness and partner work.* \n**All attendees must purchase an entrance ticket to the festival to gain access to the Sword Experience event and booth** \n**Please note the ADVANCED SESSION requires previous Sword Training experience OR that you have registered for one of the 1-HOUR sessions prior to the advanced. \n***UPDATE 2/27 Online ticket sales have concluded. Only in-person tickets are now available IF the session isn’t already sold out. Session 1 & 2 still have participant tickets available. \nThe Sword Experience event will be held in one of the buildings on the North Side of the Fairgrounds\, Labeled ‘Building 1’. Please do not disturb any session while it is in session.*** \nSchedule of Session Options Below: \nSession 1 Participant: 8:30AM-9:30AM ($80) \nSession 2 Participant: 10AM-11:30AM ($130) \nSession 3 Participant: 1:30PM-2:30PM ($80) SOLD OUT \nSession 4 Participant ADVANCED: 3PM-4:30PM ($130)[/vc_column_text][/vc_column][/vc_row][vc_row][vc_column][vc_toggle title=”$80 1HR SESSION OR $130 1.5 HOUR SESSION EXPERIENCE INCLUDES:” css=””]Sword Training with Adrian Paul for 1 HOUR or 1.5 HOUR \nSchedule of Session Options Below: \nSession 1 Participant: 8:30AM-9:30AM ($80) \nSession 2 Participant: 10AM-11:30AM ($130) \nSession 3 Participant: 1:30PM-2:30PM ($80) \nSession 4 Participant ADVANCED: 3PM-4:30PM ($130) \nLearn about Payment Plan options through PayPal Credit HERE. \nPlease note that an additional 7% service fee will be reflected at checkout.[/vc_toggle][vc_toggle title=”EVENT DETAILS & RESTRICTIONS:”] \n\nAll Participants must READ\, DIGITALLY SIGN\, & SUBMIT the following three forms before purchase:\n1. TERMS & CONDITIONS\n2. RELEASE OF LIABILITY\n3. IMAGE RELEASE\nNo photos or videos are allowed during the Sword event.\nParticipants must be 18 years old. 15-18 years olds can participate with parental consent and a minimum height of 4 feet\, 6 inches tall. PARENTAL CONSENT FORMS must be filled out and submitted prior to the event.\nPhotos taken by The Sword Experience staff will be sent and posted after the event for participants to download.Learn about Payment Plan options through PayPal Credit HERE.\nPlease note that an additional 7% service fee will be reflected at checkout.\nOur Return Policy is listed under Terms of Use page.\n\n[/vc_toggle][/vc_column][/vc_row]
URL:https://swordxp.com/event/scottish-games-festival-green-cove-springs-fl-2/
LOCATION:NEFL GAMES\, Clay County Fairgrounds 2497 State Road 16 West\, Green Cove Springs\, FL\, 32043\, United States
CATEGORIES:Elite
ATTACH;FMTTYPE=image/jpeg:https://swordxp.com/wp-content/uploads/2025/09/Cross-Swords-With-the-Highlander-Ig.jpg
ORGANIZER;CN="The Sword Experience":MAILTO:contact@swordxp.com
END:VEVENT
BEGIN:VEVENT
DTSTART;TZID=America/Los_Angeles:20260509T110000
DTEND;TZID=America/Los_Angeles:20260509T180000
DTSTAMP:20260425T075039
CREATED:20260309T064807Z
LAST-MODIFIED:20260410T213547Z
UID:48649-1778324400-1778349600@swordxp.com
SUMMARY:Elite Event | Long Island\, NY
DESCRIPTION:[vc_row full_width=”stretch_row_content_no_spaces” content_placement=”middle” el_class=”kberg-bg” css=”.vc_custom_1615075089143{background-color: #0f0f0f !important;background-position: 0 0 !important;background-repeat: no-repeat !important;}”][vc_column][vc_single_image image=”48650″ img_size=”full” alignment=”center” css=”” el_class=”fw-img-banner”][/vc_column][/vc_row][vc_row equal_height=”yes” content_placement=”middle” el_class=”event-schdul sch-head”][vc_column width=”1/6″ el_class=”evn-bx”][vc_column_text el_class=”mrg-out event-icon”][/vc_column_text][vc_column_text css=”” el_class=”ev-bx”] \nStart Date\nMay 9th 11AM\n[/vc_column_text][/vc_column][vc_column width=”1/6″ el_class=”evn-bx”][vc_column_text el_class=”mrg-out event-icon”][/vc_column_text][vc_column_text css=”” el_class=”ev-bx”] \nEnd Date\nMay 9th 6PM\n[/vc_column_text][/vc_column][vc_column width=”1/6″ el_class=”evn-bx”][vc_column_text el_class=”mrg-out event-icon”][/vc_column_text][vc_column_text css=”” el_class=”ev-bx”] \nCost\n$70 – $455\n[/vc_column_text][/vc_column][vc_column width=”1/6″ el_class=”evn-bx”][vc_column_text el_class=”mrg-out event-icon”][/vc_column_text][vc_column_text css=”” el_class=”ev-bx”] \nEvent Category\nElite\n[/vc_column_text][/vc_column][vc_column width=”1/6″ el_class=”evn-bx”][vc_column_text el_class=”mrg-out event-icon”][/vc_column_text][vc_column_text css=”” el_class=”ev-bx”]Pugliese Vineyards \n34515 Main Rd\, Cutchogue\, NY 11935[/vc_column_text][/vc_column][vc_column width=”1/6″ el_class=”evn-bx”][vc_column_text el_class=”mrg-out event-icon”][/vc_column_text][vc_column_text el_class=”ev-bx”] \nOrganizer\nThe Sword Experience\n[/vc_column_text][/vc_column][/vc_row][vc_row el_class=”first-sec col-single”][vc_column][vc_column_text css=”” el_class=”text-center event-timer”] \nMay 9th\, 2026 \n[/vc_column_text][vc_column_text css=”” el_class=”header-title-sec text-center”] \nElite Event | Long Island\, NY\nReady to challenge yourself and have an unforgettable day? As part of our “Cut Above the Rest” slogan for 2026\, we are inviting you to the exciting Sword Experience at the one of a —no experience needed! \nLong ago\, the vineyards of Japan were protected by samurai who understood two things — patience… and timing. The same qualities required to grow great wine.  \nJoin us learning the blade movements of the vineyard guardians. Sword attacks and defenses. Interactive kata challenges. Friendship …and maybe a little wine.  \nPlease note: All tickets include wine tasting if you’d like to partake![/vc_column_text][/vc_column][/vc_row][vc_row][vc_column width=”2/3″][vc_toggle title=”$270 – ELITE EXPERIENCE INCLUDES” css=””]Check In – 11AM \nSword Training with Adrian Paul \nUnique certification signed by Adrian Paul – priceless \nYour own bokken to take home. \nA short video of your event. \nWine Tasting \nParticipant Spectator Guests – Tickets $50\nParticipants are allowed a maximum 1 guest. Option available DURING CHECKOUT. \nLearn about Payment Plan options through PayPal Credit HERE.\nPlease note that an additional 7% service fee will be reflected at checkout.[/vc_toggle][vc_toggle title=”$435 GOLD EXPERIENCE INCLUDES” css=””]Check In – 11AM \nSword Training with Adrian Paul \nUnique certification signed by Adrian Paul – priceless \n8×10 signed Highlander photo of your choice – $40 value \nPersonal posed photo with Adrian – $30 value \nA short edited video of your event. \nWine Tasting \nYour own CUSTOMIZED bokken\, dedicated by Adrian Paul – priceless\nCustomize the blade length on your Classic White Oak Sword Experience bokken! The handle is a carbon kevlar cast of a traditional wrapped Japanese tsuka (handle). Gold Experience tickets must be ordered at least 1 month prior to this event. You are required to bring your bokken to the event to use. Otherwise a $15 fee will be charged in order to cover the cost of the additional bokken. \nParticipant Spectator Guests – Tickets $50\nParticipants are allowed a maximum 2 guests. Option available DURING CHECKOUT. \nLearn about Payment Plan options through PayPal Credit HERE.\nPlease note that an additional 7% service fee will be reflected at checkout.[/vc_toggle][vc_toggle title=”$70 – Spectator” css=””]Check In – 11AM \nWine Tasting \nAllows full access to view The Sword Experience.[/vc_toggle][vc_toggle title=”EVENT DETAILS & RESTRICTIONS:”] \n\nAll Participants must READ\, DIGITALLY SIGN\, & SUBMIT the following three forms before purchase:\n1. TERMS & CONDITIONS\n2. RELEASE OF LIABILITY\n3. IMAGE RELEASE\nNo photos or videos are allowed during the Sword event.\nParticipants must be 18 years old. 15-18 years olds can participate with parental consent and a minimum height of 4 feet\, 6 inches tall. PARENTAL CONSENT FORMS must be filled out and submitted prior to the event.\nPhotos taken by The Sword Experience staff will be sent and posted after the event for participants to download.Learn about Payment Plan options through PayPal Credit HERE.\nPlease note that an additional 7% service fee will be reflected at checkout.\nOur Return Policy is listed under Terms of Use page.\n\n[/vc_toggle][/vc_column][/vc_row]
URL:https://swordxp.com/event/elite-event-long-island-ny/
LOCATION:Pugliese Vineyards\, 34515 Main Rd\,\, Cutchogue\,\, NY\, 11935\, United States
CATEGORIES:Elite
ATTACH;FMTTYPE=image/jpeg:https://swordxp.com/wp-content/uploads/2026/03/May-9-Long-Island-NY_Ig.jpg
ORGANIZER;CN="The Sword Experience":MAILTO:contact@swordxp.com
END:VEVENT
BEGIN:VEVENT
DTSTART;TZID=America/Los_Angeles:20260523T090000
DTEND;TZID=America/Los_Angeles:20260523T170000
DTSTAMP:20260425T075039
CREATED:20260326T074651Z
LAST-MODIFIED:20260422T195310Z
UID:48861-1779526800-1779555600@swordxp.com
SUMMARY:Elite Event | Chicago\, Illinois
DESCRIPTION:[vc_row full_width=”stretch_row_content_no_spaces” content_placement=”middle” el_class=”kberg-bg” css=”.vc_custom_1615075089143{background-color: #0f0f0f !important;background-position: 0 0 !important;background-repeat: no-repeat !important;}”][vc_column][vc_single_image image=”48862″ img_size=”full” alignment=”center” css=”” el_class=”fw-img-banner”][/vc_column][/vc_row][vc_row equal_height=”yes” content_placement=”middle” el_class=”event-schdul sch-head”][vc_column width=”1/6″ el_class=”evn-bx”][vc_column_text el_class=”mrg-out event-icon”][/vc_column_text][vc_column_text css=”” el_class=”ev-bx”] \nStart Date\nMay 23rd 9AM\n[/vc_column_text][/vc_column][vc_column width=”1/6″ el_class=”evn-bx”][vc_column_text el_class=”mrg-out event-icon”][/vc_column_text][vc_column_text css=”” el_class=”ev-bx”] \nEnd Date\nMay 23rd 5PM\n[/vc_column_text][/vc_column][vc_column width=”1/6″ el_class=”evn-bx”][vc_column_text el_class=”mrg-out event-icon”][/vc_column_text][vc_column_text css=”” el_class=”ev-bx”] \nCost\n$55 – $435\n[/vc_column_text][/vc_column][vc_column width=”1/6″ el_class=”evn-bx”][vc_column_text el_class=”mrg-out event-icon”][/vc_column_text][vc_column_text css=”” el_class=”ev-bx”] \nEvent Category\nElite\n[/vc_column_text][/vc_column][vc_column width=”1/6″ el_class=”evn-bx”][vc_column_text el_class=”mrg-out event-icon”][/vc_column_text][vc_column_text css=”” el_class=”ev-bx”]Humboldt Park \n1440 N. Humboldt Boulevard\nChicago\, IL 60622[/vc_column_text][/vc_column][vc_column width=”1/6″ el_class=”evn-bx”][vc_column_text el_class=”mrg-out event-icon”][/vc_column_text][vc_column_text el_class=”ev-bx”] \nOrganizer\nThe Sword Experience\n[/vc_column_text][/vc_column][/vc_row][vc_row el_class=”first-sec col-single”][vc_column][vc_column_text css=”” el_class=”text-center event-timer”] \nMay 23rd\, 2026 \n[/vc_column_text][vc_column_text css=”” el_class=”header-title-sec text-center”] \nElite Event | Chicago\, IL\nReady to challenge yourself and have an unforgettable day? As part of our “Cut Above the Rest” slogan for 2026\, we are inviting you to the exciting Sword Experience at the one of a kind Humboldt Park —no experience needed! \nTHE SIGNAL AT THE WATER  \nThere are places in every city where Watchers gathered when “The Signal” returned. Not to fight\, and not to be seen—but to observe\, to remember\, and to ensure that what happened was never lost. They watched\, carrying no weapons meant for battle. Only training blades. Not to change what they witnessed—but to protect the record\, and each other\, if the watch was ever threatened. When the watch passes from one circle to the next\, someone new must step forward. Not everyone hears that signal. But those who do\, always arrive and must face the tests that prove them worthy of the watch. Today\, the Signal has returned. And a new test begins. [/vc_column_text][/vc_column][/vc_row][vc_row][vc_column width=”2/3″][vc_toggle title=”$250 – ELITE EXPERIENCE INCLUDES” css=””]Check In – 9AM \nSword Training with Adrian Paul \nUnique certification signed by Adrian Paul – priceless \nYour own bokken to take home. \nA short video of your event. \nParticipant Spectator Guests – Tickets $35\nParticipants are allowed a maximum 1 guest. Option available DURING CHECKOUT. \nLearn about Payment Plan options through PayPal Credit HERE.\nPlease note that an additional 7% service fee will be reflected at checkout.[/vc_toggle][vc_toggle title=”$435 GOLD EXPERIENCE INCLUDES” css=””]Check In – 9AM \nSword Training with Adrian Paul \nUnique certification signed by Adrian Paul – priceless \n8×10 signed Highlander photo of your choice – $40 value \nPersonal posed photo with Adrian – $30 value \nA short edited video of your event. \nYour own CUSTOMIZED bokken\, dedicated by Adrian Paul – priceless\nCustomize the blade length on your Classic White Oak Sword Experience bokken! The handle is a carbon kevlar cast of a traditional wrapped Japanese tsuka (handle). Gold Experience tickets must be ordered at least 1 month prior to this event. You are required to bring your bokken to the event to use. Otherwise a $15 fee will be charged in order to cover the cost of the additional bokken. \nParticipants are allowed a maximum 2 guests. Option available DURING CHECKOUT. \nLearn about Payment Plan options through PayPal Credit HERE.\nPlease note that an additional 7% service fee will be reflected at checkout.[/vc_toggle][vc_toggle title=”$55 – Spectator” css=””]Check In – 9AM \nAllows full access to view The Sword Experience.[/vc_toggle][vc_toggle title=”EVENT DETAILS & RESTRICTIONS:”] \n\nAll Participants must READ\, DIGITALLY SIGN\, & SUBMIT the following three forms before purchase:\n1. TERMS & CONDITIONS\n2. RELEASE OF LIABILITY\n3. IMAGE RELEASE\nNo photos or videos are allowed during the Sword event.\nParticipants must be 18 years old. 15-18 years olds can participate with parental consent and a minimum height of 4 feet\, 6 inches tall. PARENTAL CONSENT FORMS must be filled out and submitted prior to the event.\nPhotos taken by The Sword Experience staff will be sent and posted after the event for participants to download.Learn about Payment Plan options through PayPal Credit HERE.\nPlease note that an additional 7% service fee will be reflected at checkout.\nOur Return Policy is listed under Terms of Use page.\n\n[/vc_toggle][/vc_column][/vc_row]
URL:https://swordxp.com/event/elite-event-chicago-illinois-2/
LOCATION:Humboldt Park\, 1440 N. Humboldt Boulevard\, Chicago\,\, IL\, 60622\, United States
CATEGORIES:Elite
ATTACH;FMTTYPE=image/jpeg:https://swordxp.com/wp-content/uploads/2026/03/May-23-Chicago-Illinois_IG.jpg
ORGANIZER;CN="The Sword Experience":MAILTO:contact@swordxp.com
END:VEVENT
END:VCALENDAR