BEGIN:VCALENDAR
VERSION:2.0
PRODID:-//Best Sword Fighting Techniques - ECPv6.15.20//NONSGML v1.0//EN
CALSCALE:GREGORIAN
METHOD:PUBLISH
X-WR-CALNAME:Best Sword Fighting Techniques
X-ORIGINAL-URL:https://swordxp.com
X-WR-CALDESC:Events for Best Sword Fighting Techniques
REFRESH-INTERVAL;VALUE=DURATION:PT1H
X-Robots-Tag:noindex
X-PUBLISHED-TTL:PT1H
BEGIN:VTIMEZONE
TZID:America/Los_Angeles
BEGIN:DAYLIGHT
TZOFFSETFROM:-0800
TZOFFSETTO:-0700
TZNAME:PDT
DTSTART:20240310T100000
END:DAYLIGHT
BEGIN:STANDARD
TZOFFSETFROM:-0700
TZOFFSETTO:-0800
TZNAME:PST
DTSTART:20241103T090000
END:STANDARD
BEGIN:DAYLIGHT
TZOFFSETFROM:-0800
TZOFFSETTO:-0700
TZNAME:PDT
DTSTART:20250309T100000
END:DAYLIGHT
BEGIN:STANDARD
TZOFFSETFROM:-0700
TZOFFSETTO:-0800
TZNAME:PST
DTSTART:20251102T090000
END:STANDARD
BEGIN:DAYLIGHT
TZOFFSETFROM:-0800
TZOFFSETTO:-0700
TZNAME:PDT
DTSTART:20260308T100000
END:DAYLIGHT
BEGIN:STANDARD
TZOFFSETFROM:-0700
TZOFFSETTO:-0800
TZNAME:PST
DTSTART:20261101T090000
END:STANDARD
END:VTIMEZONE
BEGIN:VEVENT
DTSTART;TZID=America/Los_Angeles:20251206T130000
DTEND;TZID=America/Los_Angeles:20251207T130000
DTSTAMP:20260425T212210
CREATED:20250826T053401Z
LAST-MODIFIED:20251120T053028Z
UID:46745-1765026000-1765112400@swordxp.com
SUMMARY:Elite Event | Humble\, Texas
DESCRIPTION:[vc_row full_width=”stretch_row_content_no_spaces” content_placement=”middle” el_class=”kberg-bg” css=”.vc_custom_1615075089143{background-color: #0f0f0f !important;background-position: 0 0 !important;background-repeat: no-repeat !important;}”][vc_column][vc_single_image image=”47219″ img_size=”full” alignment=”center” css=”” el_class=”fw-img-banner”][/vc_column][/vc_row][vc_row equal_height=”yes” content_placement=”middle” el_class=”event-schdul sch-head”][vc_column width=”1/6″ el_class=”evn-bx”][vc_column_text el_class=”mrg-out event-icon”][/vc_column_text][vc_column_text css=”” el_class=”ev-bx”] \nStart Date\nDecember 6th 2025\n1PM-5PM\n[/vc_column_text][/vc_column][vc_column width=”1/6″ el_class=”evn-bx”][vc_column_text el_class=”mrg-out event-icon”][/vc_column_text][vc_column_text css=”” el_class=”ev-bx”] \nEnd Date\nDecember 7th 2025\n9AM-1PM\n[/vc_column_text][/vc_column][vc_column width=”1/6″ el_class=”evn-bx”][vc_column_text el_class=”mrg-out event-icon”][/vc_column_text][vc_column_text css=”” el_class=”ev-bx”] \nCost\n$55 – $455\n[/vc_column_text][/vc_column][vc_column width=”1/6″ el_class=”evn-bx”][vc_column_text el_class=”mrg-out event-icon”][/vc_column_text][vc_column_text css=”” el_class=”ev-bx”] \nEvent Category\nElite\n[/vc_column_text][/vc_column][vc_column width=”1/6″ el_class=”evn-bx”][vc_column_text el_class=”mrg-out event-icon”][/vc_column_text][vc_column_text css=”” el_class=”ev-bx”]Sheriff’s Office Academy \n2316 Atascocita Road Humble\, TX 77396[/vc_column_text][/vc_column][vc_column width=”1/6″ el_class=”evn-bx”][vc_column_text el_class=”mrg-out event-icon”][/vc_column_text][vc_column_text el_class=”ev-bx”] \nOrganizer\nThe Sword Experience\n[/vc_column_text][/vc_column][/vc_row][vc_row el_class=”first-sec col-single”][vc_column][vc_column_text css=”” el_class=”text-center event-timer”] \nDecember 6th & 7th \n[/vc_column_text][vc_column_text css=”” el_class=”header-title-sec text-center”] \nElite Event | Humble\, Texas\nReady to challenge yourself and have an unforgettable day? As part of our “Be Strong- Finish Stronger” mantra for 2025\, we are inviting you to the exciting Sword Experience at the Sherriff’s Office Academy —no experience needed! You’ll move\, learn\, and grow as you blend technique with part-scripted filming\, surrounded by people who share your passion for adventure. Who knows? The friends you make here might just last a lifetime. Check out a sneak peek of the story we’ll be creating below: \nBroken Perimeter \nWhen the lines are drawn… where will you stand? \nInside the walled grounds of a police academy\, cadets train for a future of law and order in a country redefining itself through force. Outside\, civilians see the facility as a breeding ground for oppression. One day\, they breach the walls — and amid the heat of day\, and opposing opinions\, the clash that ensues becomes personal. As bokken strikes echo off rusted train cars\, and tempers boil past reason\, fighters from opposite sides are thrust together in the fight of their lives. When the smoke clears\, none of them will see the system — or themselves — the same way again. \n[/vc_column_text][/vc_column][/vc_row][vc_row][vc_column width=”2/3″][vc_toggle title=”$375 – TWO-DAY ELITE EXPERIENCE OR $250 SINGLE DAY TICKET INCLUDES” css=””]Check In – TBD \nSword Training with Adrian Paul \nUnique certification signed by Adrian Paul – priceless \nYour own bokken to take home. \nA short video of your event. \nParticipant Spectator Guests – Tickets $35\nParticipants are allowed a maximum 1 guest. Option available DURING CHECKOUT. \nLearn about Payment Plan options through PayPal Credit HERE.\nPlease note that an additional 7% service fee will be reflected at checkout.[/vc_toggle][vc_toggle title=”$425 – TWO-DAY SILVER EXPERIENCE INCLUDES” css=””]Check In – TBD \nSword Training with Adrian Paul \nUnique certification signed by Adrian Paul – priceless \nYour own CUSTOMIZED bokken\, dedicated by Adrian Paul – priceless\nCustomize the blade length on your Classic White Oak Sword Experience bokken! The handle is a carbon kevlar cast of a traditional wrapped Japanese tsuka (handle).  Silver Experience tickets must be ordered at least 1 month prior to this event. You are required to bring your bokken to the event to use. Otherwise a $15 fee will be charged in order to cover the cost of the additional bokken. \nA short video of your event. \nParticipant Spectator Guests – Tickets $35\nParticipants are allowed a maximum 1 guest. Option available DURING CHECKOUT. \nLearn about Payment Plan options through PayPal Credit HERE.\nPlease note that an additional 7% service fee will be reflected at checkout.[/vc_toggle][vc_toggle title=”$465 – TWO-DAY GOLD EXPERIENCE INCLUDES” css=””]Check In – TBD \nSword Training with Adrian Paul \nUnique certification signed by Adrian Paul – priceless \n8×10 signed Highlander photo of your choice – $40 value \nPersonal posed photo with Adrian – $30 value \nA short edited video of your event. \nYour own CUSTOMIZED bokken\, dedicated by Adrian Paul – priceless\nCustomize the blade length on your Classic White Oak Sword Experience bokken! The handle is a carbon kevlar cast of a traditional wrapped Japanese tsuka (handle). Gold Experience tickets must be ordered at least 1 month prior to this event. You are required to bring your bokken to the event to use. Otherwise a $15 fee will be charged in order to cover the cost of the additional bokken. \nParticipant Spectator Guests – Tickets $35.\nParticipants are allowed a maximum 2 guests. Option available DURING CHECKOUT. \nLearn about Payment Plan options through PayPal Credit HERE.\nPlease note that an additional 7% service fee will be reflected at checkout.[/vc_toggle][vc_toggle title=”$55 1-DAY-Spectator OR $110 2-DAY Spectator” css=””]Check In – TBD \nAllows full access to view The Sword Experience. \nIf you purchase a one-day ticket please indicate which day you want to attend upon check-out.[/vc_toggle][vc_toggle title=”EVENT DETAILS & RESTRICTIONS:”] \n\nAll Participants must READ\, DIGITALLY SIGN\, & SUBMIT the following three forms before purchase:\n1. TERMS & CONDITIONS\n2. RELEASE OF LIABILITY\n3. IMAGE RELEASE\nNo photos or videos are allowed during the Sword event.\nParticipants must be 18 years old. 15-18 years olds can participate with parental consent and a minimum height of 4 feet\, 6 inches tall. PARENTAL CONSENT FORMS must be filled out and submitted prior to the event.\nPhotos taken by The Sword Experience staff will be sent and posted after the event for participants to download.Learn about Payment Plan options through PayPal Credit HERE.\nPlease note that an additional 7% service fee will be reflected at checkout.\nOur Return Policy is listed under Terms of Use page.\n\n[/vc_toggle][/vc_column][/vc_row]
URL:https://swordxp.com/event/elite-event-humble-texas/
LOCATION:Sheriff’s Office Academy\, 2316 Atascocita rd\, Humble\, Texas\, 77396
CATEGORIES:Elite
ATTACH;FMTTYPE=image/jpeg:https://swordxp.com/wp-content/uploads/2025/08/November-1-2-Humble-Texas-IG.jpg
ORGANIZER;CN="The Sword Experience":MAILTO:contact@swordxp.com
END:VEVENT
END:VCALENDAR