BEGIN:VCALENDAR
VERSION:2.0
PRODID:-//Best Sword Fighting Techniques - ECPv6.15.20//NONSGML v1.0//EN
CALSCALE:GREGORIAN
METHOD:PUBLISH
X-ORIGINAL-URL:https://swordxp.com
X-WR-CALDESC:Events for Best Sword Fighting Techniques
REFRESH-INTERVAL;VALUE=DURATION:PT1H
X-Robots-Tag:noindex
X-PUBLISHED-TTL:PT1H
BEGIN:VTIMEZONE
TZID:UTC
BEGIN:STANDARD
TZOFFSETFROM:+0000
TZOFFSETTO:+0000
TZNAME:UTC
DTSTART:20240101T000000
END:STANDARD
END:VTIMEZONE
BEGIN:VEVENT
DTSTART;TZID=UTC:20250405T101500
DTEND;TZID=UTC:20250405T160000
DTSTAMP:20260425T105246
CREATED:20250310T095754Z
LAST-MODIFIED:20250327T203627Z
UID:45091-1743848100-1743868800@swordxp.com
SUMMARY:Academy Event | Columbus\, Ohio
DESCRIPTION:[vc_row full_width=”stretch_row_content_no_spaces” content_placement=”middle” el_class=”kberg-bg” css=”.vc_custom_1615075089143{background-color: #0f0f0f !important;background-position: 0 0 !important;background-repeat: no-repeat !important;}”][vc_column][vc_single_image image=”45092″ img_size=”full” alignment=”center” css=”” el_class=”fw-img-banner”][/vc_column][/vc_row][vc_row equal_height=”yes” content_placement=”middle” el_class=”event-schdul sch-head”][vc_column width=”1/6″ el_class=”evn-bx”][vc_column_text el_class=”mrg-out event-icon”][/vc_column_text][vc_column_text css=”” el_class=”ev-bx”] \nStart Date\nApril 5th 2025 (10:15AM)\n[/vc_column_text][/vc_column][vc_column width=”1/6″ el_class=”evn-bx”][vc_column_text el_class=”mrg-out event-icon”][/vc_column_text][vc_column_text css=”” el_class=”ev-bx”] \nEnd Date\nApril 5th 2025 (4:00 PM)\n[/vc_column_text][/vc_column][vc_column width=”1/6″ el_class=”evn-bx”][vc_column_text el_class=”mrg-out event-icon”][/vc_column_text][vc_column_text css=”” el_class=”ev-bx”] \nCost\n$250\n[/vc_column_text][/vc_column][vc_column width=”1/6″ el_class=”evn-bx”][vc_column_text el_class=”mrg-out event-icon”][/vc_column_text][vc_column_text el_class=”ev-bx”] \nEvent Category\nAcademy Event\n[/vc_column_text][/vc_column][vc_column width=”1/6″ el_class=”evn-bx”][vc_column_text el_class=”mrg-out event-icon”][/vc_column_text][vc_column_text css=”” el_class=”ev-bx”] \nVenue\n\nCleo Dumaree Athletic Complex \n276 S Nelson Rd\, Columbus\, OH 43205 \n\n\n\n\n\n\n\n\n[/vc_column_text][/vc_column][vc_column width=”1/6″ el_class=”evn-bx”][vc_column_text el_class=”mrg-out event-icon”][/vc_column_text][vc_column_text el_class=”ev-bx”] \nOrganizer\nThe Sword Experience\n[/vc_column_text][/vc_column][/vc_row][vc_row el_class=”first-sec col-single”][vc_column][vc_column_text css=”” el_class=”text-center event-timer”] \nApril 5th 2025 \n[/vc_column_text][vc_column_text css=”” el_class=”header-title-sec text-center”] \nAcademy Event | Columbus\, Ohio\nAdrian Paul is bringing the Sword Experience BACK to Columbus for the Academy Tune-Up. This time we’ll be honing the foundations of sword technique and fitness and movement. Maybe you are feeling a little rusty…maybe this is your first Sword Experience EVER! Either way\, it’s time to spring into action. And the best part? You won’t be alone. This journey is one of community and camaraderie.[/vc_column_text][/vc_column][/vc_row][vc_row][vc_column][vc_tta_tabs style=”modern” color=”juicy-pink” spacing=”” alignment=”center” active_section=”1″ pagination_style=”outline-square” pagination_color=”juicy-pink” css_animation=”fadeInUp” el_class=”klugberg-tab”][vc_tta_section title=”Fitness” tab_id=”1614987582567-dc2e5bee-0ce4dd4b-1ca2″ el_class=”klugberg”][vc_column_text css=”.vc_custom_1671661604095{padding-bottom: 10px !important;}”] \nFitness\nWelcome to our FAB of exercises  \nGood footwork is the basis of every martial art. Our new FAB series of movements will not only help you improve your footwork but help with your everyday life. Get back in shape or sharpen your sword techniques with simple exercises that will improve your agility and stamina.  \nWHAT’S FAB?  \nF.(Footwork) A. (Agility) B.(Balance). Footwork challenges to improve power\, stabilize joints\, and strengthen ligaments. Agility exercises will raise your heart rate and quicken your footwork. Balance\, will help stabilize your joints and lessen injuries.  Now you can start your other workout routines with a set of tools to prevent injuries.   \nBENEFITS:  \nLess Stress. Core Conditioning. Better Balance. Added Mobility. Increased Strength\, Flexibility and Speed.[/vc_column_text][/vc_tta_section][vc_tta_section title=”Technique” tab_id=”1614987582579-d67965ab-4a2cdd4b-1ca2″ el_class=”klugberg”][vc_column_text css=”.vc_custom_1671663943583{padding-bottom: 10px !important;}”] \nTechnique\nNow we take you to the next level with skill tests\, swing essentials\, mental challenges\, and a unique targeting system of 12 attack and defense positions. Get ready to swing your way around the gym while exploring the importance of distance and targeting.  \nWHAT’S INCLUDED\nWork on center-line tactics. Practice your aim with targeting drills. Learn part of our 12 point attack and defense curriculum. Test your partner with a fun interactive “Sticky Sword” game. Improve your attention with our numbered attack and defense test.  \nBENEFITS  \nGrasping the Importance of Sword Targeting. Understanding Sword Flow. Better Sword Technique. Overcome Obstacles.[/vc_column_text][/vc_tta_section][vc_tta_section title=”Performance” tab_id=”1614987625010-2477b2ac-40e5dd4b-1ca2″ el_class=”klugberg”][vc_column_text css=”.vc_custom_1671663985384{padding-bottom: 10px !important;}”] \nPerformance\nIt was said every road lead to Rome. Well\, here you have reached your goal by choosing this fun session that is exciting and essential for any would be action star\, or if you just want to learn something you’ve seen in the movies. You’ll work with a partner performing as many moves as you feel comfortable handling\, while dodging obstacles\, as part of the scene choreography that will leave you exhilarated.  \nWHAT’S INCLUDED  \nLearn how to deliver the conversation of a sword fight while producing the best angles for the camera. Get positively critiqued on how you can improve your performance. Put all your hard work together from the first two sessions in a filmic environment.  \nBENEFITS  \nTiming Working with a Partner. Understanding Sword Fight Choreography. Having Fun Learning Something New in Cool Location.[/vc_column_text][/vc_tta_section][/vc_tta_tabs][/vc_column][/vc_row][vc_row][vc_column][vc_column_text] \nEvent Details\n[/vc_column_text][vc_toggle title=”EVENT DETAILS & RESTRICTIONS:”] \n\nAll Participants must READ\, DIGITALLY SIGN\, & SUBMIT the following three forms before purchase:\n1. TERMS & CONDITIONS\n2. RELEASE OF LIABILITY\n3. IMAGE RELEASE\nNo photos or videos are allowed during the Sword event.\nParticipants must be 18 years old. 15-18 years olds can participate with parental consent and a minimum height of 4 feet\, 6 inches tall. PARENTAL CONSENT FORMS must be filled out and submitted prior to the event.\nPhotos taken by The Sword Experience staff will be sent and posted after the event for participants to download.Learn about Payment Plan options through PayPal Credit HERE.\nPlease note that an additional 7% service fee will be reflected at checkout.\nOur Return Policy is listed under Terms of Use page.\n\n[/vc_toggle][vc_column_text][/vc_column_text][/vc_column][/vc_row][vc_row][vc_column][vc_tta_tabs][vc_tta_section title=”Schedule” tab_id=”1637786930760-889e1b6b-3498″][vc_column_text css=””] \nCheck-in for  Full Academy  10:15 AM   \n[/vc_column_text][/vc_tta_section][/vc_tta_tabs][/vc_column][/vc_row]
URL:https://swordxp.com/event/academy-event-columbus-ohio/
LOCATION:Cleo Dumaree Gym\, 276 S Nelson Rd\,\, Columbus\, OH\, 43205\, United States
CATEGORIES:Con Experience,Convention Event
ATTACH;FMTTYPE=image/jpeg:https://swordxp.com/wp-content/uploads/2025/03/April-5-Columbus-Ohio-Ig.jpg
ORGANIZER;CN="The Sword Experience":MAILTO:contact@swordxp.com
END:VEVENT
END:VCALENDAR